BEGIN:VCALENDAR
VERSION:2.0
PRODID:-//ChamberMaster//Event Calendar 2.0//EN
METHOD:PUBLISH
X-PUBLISHED-TTL:P3D
REFRESH-INTERVAL:P3D
CALSCALE:GREGORIAN
BEGIN:VEVENT
DTSTART:20200229T200000Z
DTEND:20200229T220000Z
X-MICROSOFT-CDO-ALLDAYEVENT:FALSE
SUMMARY:Young Auditorium & Horizons Family Series Presents Missoula Children's Theatre Pinocchio
DESCRIPTION:Missoula Children's Theatre  presents Pinocchio on Saturday\, February 29th at 2:00 PM at Young Auditorium. Missoula Children's Theatre is the nation's largest touring children's theatre\, touring extensively for more than 40 years\, performing all over the world.
X-ALT-DESC;FMTTYPE=text/html:Missoula Children&#39\;s Theatre&nbsp\; presents Pinocchio on Saturday\, February 29th at 2:00 PM at Young Auditorium. Missoula Children&#39\;s Theatre is the nation&#39\;s largest touring children&#39\;s theatre\, touring extensively for more than 40 years\, performing all over the world.&nbsp\;
LOCATION:Young Auditorium 930 West Main Street\, Whitewater
UID:e.2059.11007
SEQUENCE:3
DTSTAMP:20260419T122723Z
URL:https://elkhorn-gzcms.preview.gochambermaster.com/events/details/young-auditorium-horizons-family-series-presents-missoula-children-s-theatre-pinocchio-11007
END:VEVENT

END:VCALENDAR
