BEGIN:VCALENDAR
VERSION:2.0
PRODID:-//ChamberMaster//Event Calendar 2.0//EN
METHOD:PUBLISH
X-PUBLISHED-TTL:P3D
REFRESH-INTERVAL:P3D
CALSCALE:GREGORIAN
BEGIN:VEVENT
DTSTART:20171203T160000Z
DTEND:20171203T220000Z
X-MICROSOFT-CDO-ALLDAYEVENT:FALSE
SUMMARY:Walworth County Historical Society Tree Walk
DESCRIPTION:Walworth County Historical Society Hosts Christmas Tree Walk\n\n\n\nThe Walworth County Historical Society extends a holiday invitation to the Christmas Tree Walk and Holiday Bazaar. The event times will be December 2 from 2:00 - 7:00 p.m.\, December 3 from 10:00 a.m.-4:00 p.m. and December 9 from 10:00 a.m.-4:00 p.m. at Heritage Hall which is located at 103 E. Rockwell St. (corner of S. Washington St.) in Elkhorn.\n\n\n\nThe event which is free of charge will host Christmas trees on display which have been decorated by Walworth County businesses and organizations. Christmas items will be available for purchase as well as the Gift Shop open.
X-ALT-DESC;FMTTYPE=text/html:<span>Walworth County Historical Society Hosts Christmas Tree Walk<br />\n<br />\nThe Walworth County Historical Society extends a holiday invitation to the Christmas Tree Walk and Holiday Bazaar. The event times will be December 2 from 2:00 - 7:00 p.m.\, December 3 from 10:00 a.m.-4:00 p.m. and December 9 from 10:00 a.m.-4:00 p.m. at Heritage Hall which is located at 103 E. Rockwell St. (corner of S. Washington St.) in Elkhorn.<br />\n<br />\nThe event which is free of charge will host Christmas trees on display which have been decorated by Walworth County businesses and organizations. Christmas items will be available for purchase as well as the Gift Shop open.</span>
LOCATION:Heritage Hall Elkhorn and through out Elkhorn
UID:e.2059.7343
SEQUENCE:3
DTSTAMP:20260423T225810Z
URL:https://elkhorn-gzcms.preview.gochambermaster.com/events/details/walworth-county-historical-society-tree-walk-7343
END:VEVENT

END:VCALENDAR
