BEGIN:VCALENDAR
VERSION:2.0
PRODID:-//ChamberMaster//Event Calendar 2.0//EN
METHOD:PUBLISH
X-PUBLISHED-TTL:P3D
REFRESH-INTERVAL:P3D
CALSCALE:GREGORIAN
BEGIN:VEVENT
DTSTART:20180814T154500Z
DTEND:20180815T010000Z
X-MICROSOFT-CDO-ALLDAYEVENT:FALSE
SUMMARY:"The Open" Geneva Lake West Golf Outing - Evergreen Country Club
DESCRIPTION:Evergreen Country Club   Tuesday\, August 14\, 2018\n\nCheck in and lunch: 10:45 am\n\nShot Gun Start: 12:00 pm\n\nDinner: 5:00 pm\n\nHelp Support the GLWCC and Walworth Fire Department\n\nThis year's 2018 Golf Committee is: Marcia Blimbergs\, David Barnett\, Cherie Setteducate\, Jake Ries\,  Lisa Pavett\, Jake Brown and Derek Brown.\n\n\nThank you to our 2018 premier sponsors:\n\n\n	Exemplar Financial Network (Gold Sponsor)\n	First National Bank and Trust (Gold Sponsor)\n	The Abbey Resort (Gold Sponsor)\n	Town Bank (Gold Sponsor)\n	PolyFlex Inc. (Gold Sponsor)\n\n\n\n	Walworth Landings/Walworth Cellars (Silver Sponsor)\n	Daniels Sentry Foods (Silver Sponsor)\n	Mercyhealth  (Silver Sponsor)
X-ALT-DESC;FMTTYPE=text/html:<div style="margin: 0px\; padding: 0px\; border: 0px\; font-variant-numeric: inherit\; font-variant-east-asian: inherit\; font-stretch: inherit\; line-height: inherit\; font-family: HelveticaNeue\, &quot\;Helvetica Neue&quot\;\, Helvetica\, Arial\, sans-serif\; vertical-align: baseline\; color: rgb(0\, 0\, 0)\;" title="Page 1">\n<h3 style="margin: 0px 0px 8px\; padding: 0px\; border: 0px\; font-style: inherit\; font-variant: inherit\; font-stretch: inherit\; font-size: 22px\; line-height: 1.1em\; font-family: Lobster\, HelveticaNeue\, &quot\;Helvetica Neue&quot\;\, Helvetica\, Arial\, sans-serif\; vertical-align: baseline\;">Evergreen&nbsp\;Country Club&nbsp\;&ndash\; Tuesday\, August 14\, 2018</h3>\n\n<h3 style="margin: 0px 0px 8px\; padding: 0px\; border: 0px\; font-style: inherit\; font-variant: inherit\; font-stretch: inherit\; font-size: 22px\; line-height: 1.1em\; font-family: Lobster\, HelveticaNeue\, &quot\;Helvetica Neue&quot\;\, Helvetica\, Arial\, sans-serif\; vertical-align: baseline\;">Check in and lunch: 10:45 am</h3>\n\n<h3 style="margin: 0px 0px 8px\; padding: 0px\; border: 0px\; font-style: inherit\; font-variant: inherit\; font-stretch: inherit\; font-size: 22px\; line-height: 1.1em\; font-family: Lobster\, HelveticaNeue\, &quot\;Helvetica Neue&quot\;\, Helvetica\, Arial\, sans-serif\; vertical-align: baseline\;">Shot Gun Start: 12:00 pm</h3>\n\n<h3 style="margin: 0px 0px 8px\; padding: 0px\; border: 0px\; font-style: inherit\; font-variant: inherit\; font-stretch: inherit\; font-size: 22px\; line-height: 1.1em\; font-family: Lobster\, HelveticaNeue\, &quot\;Helvetica Neue&quot\;\, Helvetica\, Arial\, sans-serif\; vertical-align: baseline\;">Dinner: 5:00 pm</h3>\n\n<h3 style="margin: 0px 0px 8px\; padding: 0px\; border: 0px\; font-style: inherit\; font-variant: inherit\; font-stretch: inherit\; font-size: 22px\; line-height: 1.1em\; font-family: Lobster\, HelveticaNeue\, &quot\;Helvetica Neue&quot\;\, Helvetica\, Arial\, sans-serif\; vertical-align: baseline\;">Help Support&nbsp\;the GLWCC and Walworth Fire Department</h3>\n\n<p style="margin: 0px 0px 1em\; padding: 0px\; border: 0px\; font: inherit\; vertical-align: baseline\;"><span style="margin: 0px\; padding: 0px\; border: 0px\; font: inherit\; vertical-align: baseline\; color: rgb(20\, 24\, 35)\;">This year&rsquo\;s 2018 Golf Committee is: Marcia Blimbergs\, David Barnett\, Cherie Setteducate\, Jake Ries\,&nbsp\; Lisa Pavett\, Jake Brown and Derek Brown.</span></p>\n</div>\n\n<p style="margin: 0px 0px 1em\; padding: 0px\; border: 0px\; font-variant-numeric: inherit\; font-variant-east-asian: inherit\; font-stretch: inherit\; line-height: inherit\; font-family: HelveticaNeue\, &quot\;Helvetica Neue&quot\;\, Helvetica\, Arial\, sans-serif\; vertical-align: baseline\; color: rgb(0\, 0\, 0)\;" title="Page 1"><strong style="margin: 0px\; padding: 0px\; border: 0px\; font-style: inherit\; font-variant: inherit\; font-stretch: inherit\; font-size: inherit\; line-height: inherit\; font-family: inherit\; vertical-align: baseline\;">Thank&nbsp\;you to our 2018 premier sponsors:</strong></p>\n\n<ul style="margin: 0px 0px 20px\; padding-right: 0px\; padding-left: 0px\; border: 0px\; font-variant-numeric: inherit\; font-variant-east-asian: inherit\; font-stretch: inherit\; line-height: inherit\; font-family: HelveticaNeue\, &quot\;Helvetica Neue&quot\;\, Helvetica\, Arial\, sans-serif\; vertical-align: baseline\; list-style-position: inside\; list-style-image: initial\; color: rgb(0\, 0\, 0)\;">\n	<li style="margin: 0px\; padding: 0px 0px 0px 1em\; border: 0px\; font: inherit\; vertical-align: baseline\; text-indent: -1em\;" title="Page 1">Exemplar Financial Network (Gold Sponsor)</li>\n	<li style="margin: 0px\; padding: 0px 0px 0px 1em\; border: 0px\; font: inherit\; vertical-align: baseline\; text-indent: -1em\;" title="Page 1">First National Bank and Trust (Gold Sponsor)</li>\n	<li style="margin: 0px\; padding: 0px 0px 0px 1em\; border: 0px\; font: inherit\; vertical-align: baseline\; text-indent: -1em\;" title="Page 1">The Abbey Resort (Gold Sponsor)</li>\n	<li style="margin: 0px\; padding: 0px 0px 0px 1em\; border: 0px\; font: inherit\; vertical-align: baseline\; text-indent: -1em\;" title="Page 1">Town Bank (Gold Sponsor)</li>\n	<li style="margin: 0px\; padding: 0px 0px 0px 1em\; border: 0px\; font: inherit\; vertical-align: baseline\; text-indent: -1em\;" title="Page 1">PolyFlex Inc. (Gold Sponsor)</li>\n</ul>\n\n<ul style="margin: 0px 0px 20px\; padding-right: 0px\; padding-left: 0px\; border: 0px\; font-variant-numeric: inherit\; font-variant-east-asian: inherit\; font-stretch: inherit\; line-height: inherit\; font-family: HelveticaNeue\, &quot\;Helvetica Neue&quot\;\, Helvetica\, Arial\, sans-serif\; vertical-align: baseline\; list-style-position: inside\; list-style-image: initial\; color: rgb(0\, 0\, 0)\;">\n	<li style="margin: 0px\; padding: 0px 0px 0px 1em\; border: 0px\; font: inherit\; vertical-align: baseline\; text-indent: -1em\;" title="Page 1">Walworth Landings/Walworth Cellars (Silver Sponsor)</li>\n	<li style="margin: 0px\; padding: 0px 0px 0px 1em\; border: 0px\; font: inherit\; vertical-align: baseline\; text-indent: -1em\;" title="Page 1">Daniels Sentry Foods (Silver Sponsor)</li>\n	<li style="margin: 0px\; padding: 0px 0px 0px 1em\; border: 0px\; font: inherit\; vertical-align: baseline\; text-indent: -1em\;" title="Page 1">Mercyhealth&nbsp\;&nbsp\;(Silver Sponsor)</li>\n</ul>\n
LOCATION:Evergreen Country Club\, N6246 US-12\, Elkhorn\, WI 53121
UID:e.2059.9438
SEQUENCE:3
DTSTAMP:20260422T232504Z
URL:https://elkhorn-gzcms.preview.gochambermaster.com/events/details/the-open-geneva-lake-west-golf-outing-evergreen-country-club-9438
END:VEVENT

END:VCALENDAR
