BEGIN:VCALENDAR
VERSION:2.0
PRODID:-//ChamberMaster//Event Calendar 2.0//EN
METHOD:PUBLISH
X-PUBLISHED-TTL:P3D
REFRESH-INTERVAL:P3D
CALSCALE:GREGORIAN
BEGIN:VEVENT
DTSTART:20160410T200000Z
DTEND:20160410T213000Z
X-MICROSOFT-CDO-ALLDAYEVENT:FALSE
SUMMARY:The Dinosaur Diary of Dr. T-Rex
DESCRIPTION:"The Dinosaur Diary of Dr. T-Rex" is an exciting educational experience that uses hilarious comedy\, incredible life-size puppets\, museum quality fossils\, a multitude of dinosaur facts\, audience participation\, and a little bit of magic to encourage children to continue exploring the world of the dinosaurs through reading and writing. Dinosaur-handler\, Paul Adams\, is a virtuoso showman and holds everyone?s attention. ALSO - REXIE THE T-REX EXPERIENCE - 4:00 p.m. (Kachel Center) $5.00 per Experience (4 people). Ticket required for entry. Limited number of tickets available. Meet and get a photo taken after the show with 8-foot Rexie the T-Rex! Each experience includes a meet and greet with Rexie and a photo opportunity. More than one person can be included in the same photo. Tickets are per experience\; up to four people can be included on one ticket. We encourage you to reserve your spot early!
X-ALT-DESC;FMTTYPE=text/html:&quot\;The Dinosaur Diary of Dr. T-Rex&quot\; is an exciting educational experience that uses hilarious comedy\, incredible life-size puppets\, museum quality fossils\, a multitude of dinosaur facts\, audience participation\, and a little bit of magic to encourage children to continue exploring the world of the dinosaurs through reading and writing. Dinosaur-handler\, Paul Adams\, is a virtuoso showman and holds everyone?s attention. ALSO - REXIE THE T-REX EXPERIENCE - 4:00 p.m. (Kachel Center) $5.00 per Experience (4 people). Ticket required for entry. Limited number of tickets available. Meet and get a photo taken after the show with 8-foot Rexie the T-Rex! Each experience includes a meet and greet with Rexie and a photo opportunity. More than one person can be included in the same photo. Tickets are per experience\; up to four people can be included on one ticket. We encourage you to reserve your spot early!
LOCATION:Young Auditorium - 930 West Main Street\, Whitewater
UID:e.2059.1666
SEQUENCE:3
DTSTAMP:20260425T141255Z
URL:https://elkhorn-gzcms.preview.gochambermaster.com/events/details/the-dinosaur-diary-of-dr-t-rex-04-10-2016-1666
END:VEVENT

END:VCALENDAR
