BEGIN:VCALENDAR
VERSION:2.0
PRODID:-//ChamberMaster//Event Calendar 2.0//EN
METHOD:PUBLISH
X-PUBLISHED-TTL:P3D
REFRESH-INTERVAL:P3D
CALSCALE:GREGORIAN
BEGIN:VEVENT
DTSTART:20191128T180000Z
DTEND:20191128T210000Z
X-MICROSOFT-CDO-ALLDAYEVENT:FALSE
SUMMARY:Thanksgiving Community Meal
DESCRIPTION:The Walworth County Food and Diaper Bank is hosting a free Thanksgiving Community Meal in the Community Center at Matheson Memorial Library on Thanksgiving Day\, November 28\, 2019.\n\nRESERVATIONS AND TICKETS ARE REQUIRED! \n\nTickets are available at the Elkhorn Chamber of Congress (201 E. Walworth St.\, Elkhorn\, 8:30 AM - 4:30 PM Monday through Friday) and the Walworth County Food and Diaper Bank (205 E. Commerce St.\, Elkhorn\, 1:00 PM - 4:00 PM Tuesday and Friday). For more information about the event\, please contact John Hughes at 262-581-3389 or john.hughes@walworthcountyfoodpantry.org\n\nThis meal is open to everyone and is sponsored by The Sergi Family Foundation\, Stowell's Catering\, Lake Geneva Country Meats\, Old Glory Farms of Wisconsin\, and Matheson Memorial Library.
X-ALT-DESC;FMTTYPE=text/html:<p style="text-align:center">The Walworth County Food and Diaper Bank is hosting a free Thanksgiving Community Meal in the Community Center at Matheson Memorial Library on Thanksgiving Day\, November 28\, 2019.</p>\n\n<p style="text-align:center"><strong>RESERVATIONS AND TICKETS ARE REQUIRED!&nbsp\;</strong></p>\n\n<p style="text-align:center">Tickets are available at the Elkhorn Chamber of Congress&nbsp\;(201 E. Walworth St.\, Elkhorn\, 8:30 AM - 4:30 PM Monday through Friday) and the Walworth County Food and Diaper Bank (205 E. Commerce St.\, Elkhorn\, 1:00 PM - 4:00 PM Tuesday and Friday). For more information about the event\, please contact John Hughes at 262-581-3389 or john.hughes@walworthcountyfoodpantry.org</p>\n\n<p style="text-align:center">This meal is open to everyone and is sponsored by The Sergi Family Foundation\, Stowell&#39\;s Catering\, Lake Geneva Country Meats\, Old Glory Farms of Wisconsin\, and Matheson Memorial Library.</p>\n<br />\n&nbsp\;
LOCATION:Matheson Memorial Library Community Center
UID:e.2059.11241
SEQUENCE:3
DTSTAMP:20260420T043159Z
URL:https://elkhorn-gzcms.preview.gochambermaster.com/events/details/thanksgiving-community-meal-11-28-2019-11241
END:VEVENT

END:VCALENDAR
