BEGIN:VCALENDAR
VERSION:2.0
PRODID:-//ChamberMaster//Event Calendar 2.0//EN
METHOD:PUBLISH
X-PUBLISHED-TTL:P3D
REFRESH-INTERVAL:P3D
CALSCALE:GREGORIAN
BEGIN:VEVENT
DTSTART:20180112T000000Z
DTEND:20180112T023000Z
X-MICROSOFT-CDO-ALLDAYEVENT:FALSE
SUMMARY:Stop Human Trafficking~Join the Movement! Awareness on Human Trafficking
DESCRIPTION:Join the Movement! Stop Human Trafficking~\n\nFeaturing Theresa Flores\, survivor advocate and author of "The Slave Across the Street" and K. Scott Abrams from Fight to End Exploitation INc for an event to bring awareness to Human Trafficking.\n\nThis event is brought to you by Elkhorn Rotary Club\, Sugar Creek Lutheran Church and UW Extension.\n\nThere will also include an update from the WalCo Sensitive Crimes Taskforce:\n\nSheriff Kurt Picknell\n\nCaptain Rod Hall\n\nDA Zeke Wiedenfeld\n\nState Assembly Rep Amy Loudenbeck\n\nChief Ray Clark from the Executive Law Enforcement Association\n\nHeidi Lloyd from the Association for the Prevention of Family Violence
X-ALT-DESC;FMTTYPE=text/html:Join the Movement! Stop Human Trafficking~<br />\nFeaturing Theresa Flores\, survivor advocate and author of &quot\;The Slave Across the Street&quot\; and K. Scott Abrams from Fight to End Exploitation INc for an event to bring awareness to Human Trafficking.<br />\nThis event is brought to you by Elkhorn Rotary Club\, Sugar Creek Lutheran Church and UW Extension.<br />\nThere will also include an update from the WalCo Sensitive Crimes Taskforce:<br />\nSheriff Kurt Picknell<br />\nCaptain Rod Hall<br />\nDA Zeke Wiedenfeld<br />\nState Assembly Rep Amy Loudenbeck<br />\nChief Ray Clark from the Executive Law Enforcement Association<br />\nHeidi Lloyd from the Association for the Prevention of Family Violence<br />\n<br />\n&nbsp\;
LOCATION:Elkhorn Area High School Auditorium
UID:e.2059.7314
SEQUENCE:3
DTSTAMP:20260423T200945Z
URL:https://elkhorn-gzcms.preview.gochambermaster.com/events/details/stop-human-trafficking-join-the-movement-awareness-on-human-trafficking-7314
END:VEVENT

END:VCALENDAR
