BEGIN:VCALENDAR
VERSION:2.0
PRODID:-//ChamberMaster//Event Calendar 2.0//EN
METHOD:PUBLISH
X-PUBLISHED-TTL:P3D
REFRESH-INTERVAL:P3D
CALSCALE:GREGORIAN
BEGIN:VEVENT
DTSTART:20160420T143000Z
DTEND:20160420T143000Z
X-MICROSOFT-CDO-ALLDAYEVENT:FALSE
SUMMARY:Ribbon Cutting~Gateway Manufactuers
DESCRIPTION:Gateway is honored to present its State-of-the-Art CNC Manufacturing addition designed to meet the training needs of Walworth County manufacturers. Join us for a Ribbon Cutting on April 20th at 9:30am where there will also be a short program that will feature Wisconsin Lt. Governor Rebecca Kleefisch. Tours and Refreshments will follow.
X-ALT-DESC;FMTTYPE=text/html:Gateway is honored to present its State-of-the-Art CNC Manufacturing addition designed to meet the training needs of Walworth County manufacturers. Join us for a Ribbon Cutting on April 20th at 9:30am where there will also be a short program that will feature Wisconsin Lt. Governor Rebecca Kleefisch. Tours and Refreshments will follow.
LOCATION:Gateway Technical College Elkhorn Campus South Building (400 Hwy H)
UID:e.2059.3414
SEQUENCE:3
DTSTAMP:20260425T133507Z
URL:https://elkhorn-gzcms.preview.gochambermaster.com/events/details/ribbon-cutting-gateway-manufactuers-04-20-2016-3414
END:VEVENT

END:VCALENDAR
