BEGIN:VCALENDAR
VERSION:2.0
PRODID:-//ChamberMaster//Event Calendar 2.0//EN
METHOD:PUBLISH
X-PUBLISHED-TTL:P3D
REFRESH-INTERVAL:P3D
CALSCALE:GREGORIAN
BEGIN:VEVENT
DTSTART:20160308T233000Z
DTEND:20160309T020000Z
X-MICROSOFT-CDO-ALLDAYEVENT:FALSE
SUMMARY:Project Elkhorn
DESCRIPTION:Come join us as we kickoff Project Restore\, an effort to revitalize Elkhorn\, led by the Elkhorn Economic Development Alliance (EEDA).\n\nLt. Governor Rebecca Kleefisch will be our special guest. She will share stories about Wisconsin cities\, like Elkhorn\, who have revitalized their communities. EEDA will describe useful resources that are available to local businesses. Redevelopment Resources will briefly review the comprehensive market study they recently conducted for Elkhorn.\n\nProject Restore is a great opportunity to unite community forces. Local Business will learn how they can be a part of the solution to revitalize the city.\n\nHeavy appetizers provided. No cost to attend\, but reservations are required.
X-ALT-DESC;FMTTYPE=text/html:Come join us as we kickoff Project Restore\, an effort to revitalize Elkhorn\, led by the Elkhorn Economic Development Alliance (EEDA).<br />\nLt. Governor Rebecca Kleefisch will be our special guest. She will share stories about Wisconsin cities\, like Elkhorn\, who have revitalized their communities. EEDA will describe useful resources that are available to local businesses. Redevelopment Resources will briefly review the comprehensive market study they recently conducted for Elkhorn.<br />\nProject Restore is a great opportunity to unite community forces. Local Business will learn how they can be a part of the solution to revitalize the city.<br />\nHeavy appetizers provided. No cost to attend\, but reservations are required.
LOCATION:Reservations Required Monte Carlo Room
UID:e.2059.1928
SEQUENCE:3
DTSTAMP:20260425T133059Z
URL:https://elkhorn-gzcms.preview.gochambermaster.com/events/details/project-elkhorn-03-08-2016-1928
END:VEVENT

END:VCALENDAR
