BEGIN:VCALENDAR
VERSION:2.0
PRODID:-//ChamberMaster//Event Calendar 2.0//EN
METHOD:PUBLISH
X-PUBLISHED-TTL:P3D
REFRESH-INTERVAL:P3D
CALSCALE:GREGORIAN
BEGIN:VEVENT
DTSTART:20171230T173000Z
DTEND:20171230T190000Z
X-MICROSOFT-CDO-ALLDAYEVENT:FALSE
SUMMARY:New Year's Eve Noon Party
DESCRIPTION:Start the new year off with a fun party at the library. We'll have lots of magical crafts and activities as well as games to get those winter wiggles out! A fun event for kids who aren't ready to stay up until midnight - and parents who don't want to start the new year off with grouchy kiddos!
X-ALT-DESC;FMTTYPE=text/html:<span style="background-color:transparent\; color:rgb(0\, 0\, 0)\; font-family:arial\; font-size:11pt">Start the new year off with a fun party at the library. We&rsquo\;ll have lots of magical crafts and activities as well as games to get those winter wiggles out! A fun event for kids who aren&rsquo\;t ready to stay up until midnight - and parents who don&rsquo\;t want to start the new year off with grouchy kiddos!</span>
LOCATION:Matheson Memorial Library
UID:e.2059.7004
SEQUENCE:3
DTSTAMP:20260423T215406Z
URL:https://elkhorn-gzcms.preview.gochambermaster.com/events/details/new-year-s-eve-noon-party-7004
END:VEVENT

END:VCALENDAR
