BEGIN:VCALENDAR
VERSION:2.0
PRODID:-//ChamberMaster//Event Calendar 2.0//EN
METHOD:PUBLISH
X-PUBLISHED-TTL:P3D
REFRESH-INTERVAL:P3D
CALSCALE:GREGORIAN
BEGIN:VEVENT
DTSTART:20191019T200000Z
DTEND:20191019T230000Z
X-MICROSOFT-CDO-ALLDAYEVENT:FALSE
SUMMARY:Never Too Young Series Presents Animal Quest
DESCRIPTION:Do your children's faces light up at the mere notion of visiting the zoo\, or do they glue themselves to the TV to watch nature specials? If so\, they won't want to miss Animal Quest at Young Auditorium. Join us for this hands-on animal experience where your kids get up close-and-personal with some of nature's most amazing creatures!
X-ALT-DESC;FMTTYPE=text/html:Do your children&#39\;s faces light up at the mere notion of visiting the zoo\, or do they glue themselves to the TV to watch nature specials? If so\, they won&#39\;t want to miss Animal Quest at Young Auditorium. Join us for this hands-on animal experience where your kids get up close-and-personal with some of nature&#39\;s most amazing creatures!
LOCATION:Young Auditorium 930 West Main Street\, Whitewater
UID:e.2059.10993
SEQUENCE:3
DTSTAMP:20260420T074847Z
URL:https://elkhorn-gzcms.preview.gochambermaster.com/events/details/never-too-young-series-presents-animal-quest-10993
END:VEVENT

END:VCALENDAR
