BEGIN:VCALENDAR
VERSION:2.0
PRODID:-//ChamberMaster//Event Calendar 2.0//EN
METHOD:PUBLISH
X-PUBLISHED-TTL:P3D
REFRESH-INTERVAL:P3D
CALSCALE:GREGORIAN
BEGIN:VEVENT
DTSTART:20150613T130000Z
DTEND:20150613T170000Z
X-MICROSOFT-CDO-ALLDAYEVENT:FALSE
SUMMARY:Lombardi Walk to Tackle Cancer - Walworth County
DESCRIPTION:Thank you for your interest in the Lombardi Walk to Tackle Cancer-Walworth County. We look forward to walking with you on Saturday\, June 13\, 2015\, at Edgewater Park in Williams Bay\, WI. There are many great reasons to participate\, including a 5K walk\; information on cancer prevention and treatment\; musical entertainment\; fun activities for the kids\; food\; and most importantly - a great cause! We aim to raise $30\,000 for the fight against cancer at the 2015 Lombardi Walk to Tackle Cancer-Walworth County. Proceeds from the event support leading-edge cancer research and compassionate care at the Vince Lombardi Cancer Clinic at Aurora Lakeland Medical Center. Your participation helps patients\, supports families\, and builds cancer awareness within our communities. All teams and walkers will be eligible to receive matching funds from the Vince Lombardi Cancer Foundation The Walk will be held rain or shine.
X-ALT-DESC;FMTTYPE=text/html:Thank you for your interest in the Lombardi Walk to Tackle Cancer-Walworth County. We look forward to walking with you on Saturday\, June 13\, 2015\, at Edgewater Park in Williams Bay\, WI. There are many great reasons to participate\, including a 5K walk\; information on cancer prevention and treatment\; musical entertainment\; fun activities for the kids\; food\; and most importantly - a great cause! We aim to raise $30\,000 for the fight against cancer at the 2015 Lombardi Walk to Tackle Cancer-Walworth County. Proceeds from the event support leading-edge cancer research and compassionate care at the Vince Lombardi Cancer Clinic at Aurora Lakeland Medical Center. Your participation helps patients\, supports families\, and builds cancer awareness within our communities. All teams and walkers will be eligible to receive matching funds from the Vince Lombardi Cancer Foundation The Walk will be held rain or shine.
LOCATION:Edgewater Park\, Williams Bay
UID:e.2059.1143
SEQUENCE:3
DTSTAMP:20260426T041858Z
URL:https://elkhorn-gzcms.preview.gochambermaster.com/events/details/lombardi-walk-to-tackle-cancer-walworth-county-06-13-2015-1143
END:VEVENT

END:VCALENDAR
