BEGIN:VCALENDAR
VERSION:2.0
PRODID:-//ChamberMaster//Event Calendar 2.0//EN
METHOD:PUBLISH
X-PUBLISHED-TTL:P3D
REFRESH-INTERVAL:P3D
CALSCALE:GREGORIAN
BEGIN:VEVENT
DTSTART:20180227T213000Z
DTEND:20180227T233000Z
X-MICROSOFT-CDO-ALLDAYEVENT:FALSE
SUMMARY:Lego Club
DESCRIPTION:Children of all ages\, from toddlers to teens\, are invited to drop in between 3:30 and 5:30pm and build with Legos. Stay for ten minutes or the full two hours\, then display your creations in the library until the next club meeting. The library supplies the Legos\, you supply the imagination!
X-ALT-DESC;FMTTYPE=text/html:<p><span style="font-family:arial\; font-size:14.6667px">Children of all ages\, from toddlers to teens\, are invited to drop in between 3:30 and 5:30pm and build with Legos.&nbsp\;</span><span style="font-family:arial\; font-size:14.6667px">Stay for ten minutes or the full two hours\, then display your creations in the library until the next club meeting.&nbsp\;</span><span style="font-family:arial\; font-size:14.6667px">The library supplies the Legos\, you supply the imagination!</span></p>\n
LOCATION:Matheson Memorial Library
UID:e.2059.7481
SEQUENCE:3
DTSTAMP:20260423T171033Z
URL:https://elkhorn-gzcms.preview.gochambermaster.com/events/details/lego-club-02-27-2018-7481
END:VEVENT

END:VCALENDAR
