BEGIN:VCALENDAR
VERSION:2.0
PRODID:-//ChamberMaster//Event Calendar 2.0//EN
METHOD:PUBLISH
X-PUBLISHED-TTL:P3D
REFRESH-INTERVAL:P3D
CALSCALE:GREGORIAN
BEGIN:VEVENT
DTSTART:20200216T173000Z
DTEND:20200216T203000Z
X-MICROSOFT-CDO-ALLDAYEVENT:FALSE
SUMMARY:Lakes Area Bridal Fair
DESCRIPTION:Don't miss our 12th Annual Bridal Fair in the Evergreen Room. Only $5 admission in advance\, $8 at the door...mark your calendars!YOu can visit with representatives from everything you'll need for your perfect wedding...caterers\, florists\, bakeries\, photographers\, formal wear\, jewelers\, limos\, Dj's\, salons\, travel agencies\, plus more.
X-ALT-DESC;FMTTYPE=text/html:Don&#39\;t miss our 12th Annual Bridal Fair in the Evergreen Room. Only $5 admission in advance\, $8 at the door...mark your calendars!YOu can visit with representatives from everything you&#39\;ll need for your perfect wedding...caterers\, florists\, bakeries\, photographers\, formal wear\, jewelers\, limos\, Dj&#39\;s\, salons\, travel agencies\, plus more.
LOCATION:Evergreen Country Club N6246 US Highway 12 Elkhorn\, Wisconsin 53121
UID:e.2059.10776
SEQUENCE:3
DTSTAMP:20260419T171530Z
URL:https://elkhorn-gzcms.preview.gochambermaster.com/events/details/lakes-area-bridal-fair-10776
END:VEVENT

END:VCALENDAR
