BEGIN:VCALENDAR
VERSION:2.0
PRODID:-//ChamberMaster//Event Calendar 2.0//EN
METHOD:PUBLISH
X-PUBLISHED-TTL:P3D
REFRESH-INTERVAL:P3D
CALSCALE:GREGORIAN
BEGIN:VEVENT
DTSTART:20191121T003000Z
DTEND:20191121T023000Z
X-MICROSOFT-CDO-ALLDAYEVENT:FALSE
SUMMARY:Kids in Crisis " You're Not Alone"
DESCRIPTION:Please join us for a screening event of Kids in Crisis" You're Not Alone" with special guest appearance by Alex & TJ from the Documentary on November 20th at 6:30 PM at Elkhorn High School.
X-ALT-DESC;FMTTYPE=text/html:Please join us for a screening event of Kids in Crisis&quot\; You&#39\;re Not Alone&quot\; with special guest appearance by Alex &amp\; TJ from the Documentary on November 20th at 6:30 PM at Elkhorn High School.
LOCATION:Elkhorn High School
UID:e.2059.11234
SEQUENCE:3
DTSTAMP:20260420T061546Z
URL:https://elkhorn-gzcms.preview.gochambermaster.com/events/details/kids-in-crisis-you-re-not-alone-11234
END:VEVENT

END:VCALENDAR
