BEGIN:VCALENDAR
VERSION:2.0
PRODID:-//ChamberMaster//Event Calendar 2.0//EN
METHOD:PUBLISH
X-PUBLISHED-TTL:P3D
REFRESH-INTERVAL:P3D
CALSCALE:GREGORIAN
BEGIN:VEVENT
DTSTART:20190511T130000Z
DTEND:20190511T180000Z
X-MICROSOFT-CDO-ALLDAYEVENT:FALSE
SUMMARY:Kettle Moraine Bird Festival & Spring Luncheon
DESCRIPTION:Guided bird walks at Bromley Woods $5\, hourly 8\,9\,10. Check in at La Grange United Methodist Church 20 mins before scheduled walk. Church Lunch & Presentation 11 am - 1 pm $20\, Speaker Craig Thompson\, DNR Bureau of Natural Heritage
X-ALT-DESC;FMTTYPE=text/html:Guided bird walks at Bromley Woods $5\, hourly 8\,9\,10. Check in at La Grange United Methodist Church 20 mins before scheduled walk. Church Lunch &amp\; Presentation 11 am - 1 pm $20\, Speaker Craig Thompson\, DNR Bureau of Natural Heritage
LOCATION:N8548 Chounty Road H La Grange\,WI
UID:e.2059.10897
SEQUENCE:3
DTSTAMP:20260422T014008Z
URL:https://elkhorn-gzcms.preview.gochambermaster.com/events/details/kettle-moraine-bird-festival-spring-luncheon-10897
END:VEVENT

END:VCALENDAR
