BEGIN:VCALENDAR
VERSION:2.0
PRODID:-//ChamberMaster//Event Calendar 2.0//EN
METHOD:PUBLISH
X-PUBLISHED-TTL:P3D
REFRESH-INTERVAL:P3D
CALSCALE:GREGORIAN
BEGIN:VEVENT
DTSTART:20191109T140000Z
DTEND:20191109T213000Z
X-MICROSOFT-CDO-ALLDAYEVENT:FALSE
SUMMARY:Hunter Sight-in Day
DESCRIPTION:Southern Lakes Church will again host its annual Hunters Sight-In Day. All are welcome to come and sight in their firearms for the upcoming deer season. The event is entirely free. People only need to bring their own firearms and ammunition. Experienced range officers have volunteered to provide supervision that will keep the event safe for everyone involved. Targets will be set up at 25\, 50 and 100 yards. Bore sighting is available\, as are spotting scopes\, targets\, eye and ear protection\, snacks\, beverages and a hot lunch   all at no cost.
X-ALT-DESC;FMTTYPE=text/html:Southern Lakes Church will again host its annual Hunters Sight-In Day. All are welcome to come and sight in their firearms for the upcoming deer season. The event is entirely free. People only need to bring their own firearms and ammunition. Experienced range officers have volunteered to provide supervision that will keep the event safe for everyone involved. Targets will be set up at 25\, 50 and 100 yards. Bore sighting is available\, as are spotting scopes\, targets\, eye and ear protection\, snacks\, beverages and a hot lunch &ndash\; all at no cost.
LOCATION:N6686 US Hwy 12\, just two miles north of Elkhorn between County Roads ES and A.
UID:e.2059.11191
SEQUENCE:3
DTSTAMP:20260420T043113Z
URL:https://elkhorn-gzcms.preview.gochambermaster.com/events/details/hunter-sight-in-day-11-09-2019-11191
END:VEVENT

END:VCALENDAR
