BEGIN:VCALENDAR
VERSION:2.0
PRODID:-//ChamberMaster//Event Calendar 2.0//EN
METHOD:PUBLISH
X-PUBLISHED-TTL:P3D
REFRESH-INTERVAL:P3D
CALSCALE:GREGORIAN
BEGIN:VEVENT
DTSTART:20191214T230000Z
DTEND:20191215T030000Z
X-MICROSOFT-CDO-ALLDAYEVENT:FALSE
SUMMARY:Holiday Comedy Dinner & Dancing At Evergreen
DESCRIPTION:RSVP for Evergreen Country Club's Holiday Comedy Dinner & Dancing. More information to come.
X-ALT-DESC;FMTTYPE=text/html:RSVP for Evergreen Country Club&#39\;s Holiday Comedy Dinner &amp\; Dancing. More information to come.
LOCATION:Evergreen Country Club N6246 US Highway 12 Elkhorn\, Wisconsin 53121
UID:e.2059.10831
SEQUENCE:3
DTSTAMP:20260419T215159Z
URL:https://elkhorn-gzcms.preview.gochambermaster.com/events/details/holiday-comedy-dinner-dancing-at-evergreen-10831
END:VEVENT

END:VCALENDAR
