BEGIN:VCALENDAR
VERSION:2.0
PRODID:-//ChamberMaster//Event Calendar 2.0//EN
METHOD:PUBLISH
X-PUBLISHED-TTL:P3D
REFRESH-INTERVAL:P3D
CALSCALE:GREGORIAN
BEGIN:VEVENT
DTSTART:20191112T213000Z
DTEND:20191112T230000Z
X-MICROSOFT-CDO-ALLDAYEVENT:FALSE
SUMMARY:For families: Handmade Holiday Craft Extravaganza
DESCRIPTION:Families are invited to drop by the storyroom and create a special project to celebrate the season or gift to a loved one (first family program today at 10:00 in the community center).
X-ALT-DESC;FMTTYPE=text/html:<div style="text-align:center"><span style="color:rgb(0\, 0\, 0)\; font-family:arial\; font-size:14.6667px">Families are invited to drop by the storyroom and create a special project to celebrate the season or gift to a loved one (first family program today at 10:00 in the community center).</span></div>\n
LOCATION:Matheson Memorial Library Storyroom
UID:e.2059.11194
SEQUENCE:3
DTSTAMP:20260420T043220Z
URL:https://elkhorn-gzcms.preview.gochambermaster.com/events/details/for-families-handmade-holiday-craft-extravaganza-11-12-2019-11194
END:VEVENT

END:VCALENDAR
