BEGIN:VCALENDAR
VERSION:2.0
PRODID:-//ChamberMaster//Event Calendar 2.0//EN
METHOD:PUBLISH
X-PUBLISHED-TTL:P3D
REFRESH-INTERVAL:P3D
CALSCALE:GREGORIAN
BEGIN:VEVENT
DTSTART:20160304T223000Z
DTEND:20160305T010000Z
X-MICROSOFT-CDO-ALLDAYEVENT:FALSE
SUMMARY:Every Bite Counts- All You Can Eat Lenten Fish Fry
DESCRIPTION:Every Bite Counts. Your Dinner is your Donation!\n\nCome meet our volunteers at St. Benedict Church for an All You Can Eat Lenten Fish Fry. A portion of sales go directly to Open Arms Free Clinic.
X-ALT-DESC;FMTTYPE=text/html:Every Bite Counts. Your Dinner is your Donation!<br />\nCome meet our volunteers at St. Benedict Church for an All You Can Eat Lenten Fish Fry. A portion of sales go directly to Open Arms Free Clinic.
LOCATION:St. Benedict Church 137 Dewey Ave Fontana\, WI
UID:e.2059.1947
SEQUENCE:3
DTSTAMP:20260425T133558Z
URL:https://elkhorn-gzcms.preview.gochambermaster.com/events/details/every-bite-counts-all-you-can-eat-lenten-fish-fry-03-04-2016-1947
END:VEVENT

END:VCALENDAR
