BEGIN:VCALENDAR
VERSION:2.0
PRODID:-//ChamberMaster//Event Calendar 2.0//EN
METHOD:PUBLISH
X-PUBLISHED-TTL:P3D
REFRESH-INTERVAL:P3D
CALSCALE:GREGORIAN
BEGIN:VEVENT
DTSTART:20191004T220000Z
DTEND:20191005T010000Z
X-MICROSOFT-CDO-ALLDAYEVENT:FALSE
SUMMARY:East Troy First Friday
DESCRIPTION:OcTROYber Fest at East Troy Village Square Park from 5 - 8 PM on October 4th.
X-ALT-DESC;FMTTYPE=text/html:OcTROYber Fest at East Troy Village Square Park from 5 - 8 PM on October 4th.
LOCATION:East Troy Village Square Park
UID:e.2059.10816
SEQUENCE:3
DTSTAMP:20260420T074521Z
URL:https://elkhorn-gzcms.preview.gochambermaster.com/events/details/east-troy-first-friday-10816
END:VEVENT

END:VCALENDAR
