BEGIN:VCALENDAR
VERSION:2.0
PRODID:-//ChamberMaster//Event Calendar 2.0//EN
METHOD:PUBLISH
X-PUBLISHED-TTL:P3D
REFRESH-INTERVAL:P3D
CALSCALE:GREGORIAN
BEGIN:VEVENT
DTSTART:20180218T173000Z
DTEND:20180218T203000Z
X-MICROSOFT-CDO-ALLDAYEVENT:FALSE
SUMMARY:Bridal Fair Evergreen Country Club
DESCRIPTION:Don't miss Evergreen Country Club's 10th Annual Bridal Fair in the Evergreen Room! You can visit with representatives from everything you'll need for your perfect wedding...caterers\, florists\, bakeries\, photographers\, formal ear\, jewelers\, limos\, DJ's\, salons\, travel agencies\, plus...\n\nBridal Fashion Show at 1pm presented by Fair Lady Bridal Shoppe out of Janseville\, WI\n\nDoor Prizes. Food Sampling. Wine Tasting
X-ALT-DESC;FMTTYPE=text/html:Don&#39\;t miss Evergreen Country Club&#39\;s 10th Annual Bridal Fair in the Evergreen Room! You can visit with representatives from everything you&#39\;ll need for your perfect wedding...caterers\, florists\, bakeries\, photographers\, formal ear\, jewelers\, limos\, DJ&#39\;s\, salons\, travel agencies\, plus...<br />\nBridal Fashion Show at 1pm presented by Fair Lady Bridal Shoppe out of Janseville\, WI<br />\nDoor Prizes. Food Sampling. Wine Tasting
LOCATION:Evergreen Country Club N6246 US Hwy 12 Elkhorn\,WI 53121
UID:e.2059.7496
SEQUENCE:3
DTSTAMP:20260423T183642Z
URL:https://elkhorn-gzcms.preview.gochambermaster.com/events/details/bridal-fair-evergreen-country-club-7496
END:VEVENT

END:VCALENDAR
