BEGIN:VCALENDAR
VERSION:2.0
PRODID:-//ChamberMaster//Event Calendar 2.0//EN
METHOD:PUBLISH
X-PUBLISHED-TTL:P3D
REFRESH-INTERVAL:P3D
CALSCALE:GREGORIAN
BEGIN:VEVENT
DTSTART:20160123T140000Z
DTEND:20160123T210000Z
X-MICROSOFT-CDO-ALLDAYEVENT:FALSE
SUMMARY:Barnyard Bargain Bonanza Indoor Flea Market
DESCRIPTION:Barnyard Indoor Flea Market. Great for the whole family plus free admission as well as free parking. Refreshments will be available.
X-ALT-DESC;FMTTYPE=text/html:Barnyard Indoor Flea Market. Great for the whole family plus free admission as well as free parking. Refreshments will be available.&nbsp\;&nbsp\;&nbsp\;&nbsp\;
LOCATION:Walworth County Fair's Activity Center Elkhorn\, WI 53121
UID:e.2059.1703
SEQUENCE:3
DTSTAMP:20260425T164838Z
URL:https://elkhorn-gzcms.preview.gochambermaster.com/events/details/barnyard-bargain-bonanza-indoor-flea-market-01-23-2016-1703
END:VEVENT

END:VCALENDAR
