BEGIN:VCALENDAR
VERSION:2.0
PRODID:-//ChamberMaster//Event Calendar 2.0//EN
METHOD:PUBLISH
X-PUBLISHED-TTL:P3D
REFRESH-INTERVAL:P3D
CALSCALE:GREGORIAN
BEGIN:VEVENT
DTSTART;VALUE=DATE:20191207
DTEND;VALUE=DATE:20191208
TRANSP:TRANSPARENT
X-MICROSOFT-CDO-ALLDAYEVENT:TRUE
SUMMARY:A Mexican Holiday Dinner Fundraising Celebration
DESCRIPTION:A Mexican Holiday Dinner Fundraising Celebration at Old World Wisconsin. Resevations Required.
X-ALT-DESC;FMTTYPE=text/html:A Mexican Holiday Dinner Fundraising Celebration at Old World Wisconsin. Resevations Required.
LOCATION:Old World Wisconsin
UID:e.2059.10624
SEQUENCE:3
DTSTAMP:20260419T215326Z
URL:https://elkhorn-gzcms.preview.gochambermaster.com/events/details/a-mexican-holiday-dinner-fundraising-celebration-10624
END:VEVENT

END:VCALENDAR
